BEGIN:VCALENDAR
VERSION:2.0
PRODID:-//Guyana Marketing Corporation - ECPv6.15.20//NONSGML v1.0//EN
CALSCALE:GREGORIAN
METHOD:PUBLISH
X-ORIGINAL-URL:https://newgmc.gov.gy
X-WR-CALDESC:Events for Guyana Marketing Corporation
REFRESH-INTERVAL;VALUE=DURATION:PT1H
X-Robots-Tag:noindex
X-PUBLISHED-TTL:PT1H
BEGIN:VTIMEZONE
TZID:America/Guyana
BEGIN:STANDARD
TZOFFSETFROM:-0400
TZOFFSETTO:-0400
TZNAME:-04
DTSTART:20200101T000000
END:STANDARD
END:VTIMEZONE
BEGIN:VEVENT
DTSTART;VALUE=DATE:20211226
DTEND;VALUE=DATE:20211227
DTSTAMP:20260422T162925
CREATED:20210423T142319Z
LAST-MODIFIED:20210423T142319Z
UID:7699-1640476800-1640563199@newgmc.gov.gy
SUMMARY:Boxing Day
DESCRIPTION:
URL:https://newgmc.gov.gy/event/boxing-day/
END:VEVENT
BEGIN:VEVENT
DTSTART;VALUE=DATE:20211225
DTEND;VALUE=DATE:20211226
DTSTAMP:20260422T162925
CREATED:20210423T142231Z
LAST-MODIFIED:20210423T142231Z
UID:7697-1640390400-1640476799@newgmc.gov.gy
SUMMARY:Christmas Day
DESCRIPTION:
URL:https://newgmc.gov.gy/event/christmas-day/
END:VEVENT
BEGIN:VEVENT
DTSTART;VALUE=DATE:20211215
DTEND;VALUE=DATE:20211216
DTSTAMP:20260422T162925
CREATED:20210423T160504Z
LAST-MODIFIED:20210423T160504Z
UID:7742-1639526400-1639612799@newgmc.gov.gy
SUMMARY:International Tea Day
DESCRIPTION:
URL:https://newgmc.gov.gy/event/international-tea-day/
END:VEVENT
BEGIN:VEVENT
DTSTART;VALUE=DATE:20211125
DTEND;VALUE=DATE:20211126
DTSTAMP:20260422T162925
CREATED:20210423T160301Z
LAST-MODIFIED:20210423T160337Z
UID:7739-1637798400-1637884799@newgmc.gov.gy
SUMMARY:International Day for the Elimination of Violence against Women
DESCRIPTION:
URL:https://newgmc.gov.gy/event/international-day-for-the-elimination-of-violence-against-women/
END:VEVENT
BEGIN:VEVENT
DTSTART;VALUE=DATE:20211119
DTEND;VALUE=DATE:20211120
DTSTAMP:20260422T162925
CREATED:20210423T160016Z
LAST-MODIFIED:20210423T160016Z
UID:7737-1637280000-1637366399@newgmc.gov.gy
SUMMARY:International Men's Day
DESCRIPTION:
URL:https://newgmc.gov.gy/event/international-mens-day/
END:VEVENT
BEGIN:VEVENT
DTSTART;VALUE=DATE:20211104
DTEND;VALUE=DATE:20211105
DTSTAMP:20260422T162925
CREATED:20210423T142000Z
LAST-MODIFIED:20210423T142000Z
UID:7695-1635984000-1636070399@newgmc.gov.gy
SUMMARY:Diwali
DESCRIPTION:
URL:https://newgmc.gov.gy/event/diwali/
END:VEVENT
BEGIN:VEVENT
DTSTART;TZID=America/Guyana:20211030T060000
DTEND;TZID=America/Guyana:20211030T163000
DTSTAMP:20260422T162925
CREATED:20211020T195513Z
LAST-MODIFIED:20211020T195513Z
UID:10673-1635573600-1635611400@newgmc.gov.gy
SUMMARY:Farmer's Market Day & Information Activity - Skeldon
DESCRIPTION:
URL:https://newgmc.gov.gy/event/farmers-market-day-information-activity-skeldon/
LOCATION:Skeldon Municipal Market\, Guyana
ORGANIZER;CN="Guyana Marketing Corporation":MAILTO:info@newgmc.gov.gy
END:VEVENT
BEGIN:VEVENT
DTSTART;TZID=America/Guyana:20211029T130000
DTEND;TZID=America/Guyana:20211029T150000
DTSTAMP:20260422T162925
CREATED:20211020T200716Z
LAST-MODIFIED:20211020T200727Z
UID:10691-1635512400-1635519600@newgmc.gov.gy
SUMMARY:Farmers' Meeting - White Water
DESCRIPTION:GMC’s General Manager\, Ms. Teshawna Lall will be present at the specified venue and time to meet with farmers to address market challenges.
URL:https://newgmc.gov.gy/event/farmers-meeting-white-water/
LOCATION:White Water Multipupose Centre\, Guyana
ORGANIZER;CN="Guyana Marketing Corporation":MAILTO:info@newgmc.gov.gy
END:VEVENT
BEGIN:VEVENT
DTSTART;TZID=America/Guyana:20211029T100000
DTEND;TZID=America/Guyana:20211029T120000
DTSTAMP:20260422T162925
CREATED:20211020T200503Z
LAST-MODIFIED:20211020T200605Z
UID:10688-1635501600-1635508800@newgmc.gov.gy
SUMMARY:Farmers' Meeting - Kamwatta
DESCRIPTION:GMC’s General Manager\, Ms. Teshawna Lall will be present at the specified venue and time to meet with farmers to address market challenges.
URL:https://newgmc.gov.gy/event/farmers-meeting-kamwatta/
LOCATION:Kamwatta Multipurpose Centre\, Guyana
ORGANIZER;CN="Guyana Marketing Corporation":MAILTO:info@newgmc.gov.gy
END:VEVENT
BEGIN:VEVENT
DTSTART;TZID=America/Guyana:20211029T090000
DTEND;TZID=America/Guyana:20211029T120000
DTSTAMP:20260422T162925
CREATED:20211008T151500Z
LAST-MODIFIED:20211008T151500Z
UID:10638-1635498000-1635508800@newgmc.gov.gy
SUMMARY:Virtual Presentation on Good Manufacturing Practices and Hazard Analysis Critical Control Point Training
DESCRIPTION:
URL:https://newgmc.gov.gy/event/virtual-presentation-on-good-manufacturing-practices-and-hazard-analysis-critical-control-point-training/
ORGANIZER;CN="Guyana Marketing Corporation":MAILTO:info@newgmc.gov.gy
END:VEVENT
BEGIN:VEVENT
DTSTART;TZID=America/Guyana:20211028T100000
DTEND;TZID=America/Guyana:20211028T120000
DTSTAMP:20260422T162925
CREATED:20211008T151350Z
LAST-MODIFIED:20211008T151350Z
UID:10636-1635415200-1635422400@newgmc.gov.gy
SUMMARY:Virtual Presentation on Packaging and Labelling Training
DESCRIPTION:
URL:https://newgmc.gov.gy/event/virtual-presentation-on-packaging-and-labelling-training/
ORGANIZER;CN="Guyana Marketing Corporation":MAILTO:info@newgmc.gov.gy
END:VEVENT
BEGIN:VEVENT
DTSTART;TZID=America/Guyana:20211027T100000
DTEND;TZID=America/Guyana:20211027T120000
DTSTAMP:20260422T162925
CREATED:20211020T200258Z
LAST-MODIFIED:20211020T200258Z
UID:10670-1635328800-1635336000@newgmc.gov.gy
SUMMARY:Sensitization session on the opportunities for the processing of food products - Johanna Black Bush Polder
DESCRIPTION:
URL:https://newgmc.gov.gy/event/sensitization-session-on-the-opportunities-for-the-processing-of-food-products-johanna-black-bush-polder/
LOCATION:Three Bridge Bus Shed\, Guyana
ORGANIZER;CN="Guyana Marketing Corporation":MAILTO:info@newgmc.gov.gy
END:VEVENT
BEGIN:VEVENT
DTSTART;TZID=America/Guyana:20211027T100000
DTEND;TZID=America/Guyana:20211027T120000
DTSTAMP:20260422T162925
CREATED:20211008T151236Z
LAST-MODIFIED:20211008T151236Z
UID:10631-1635328800-1635336000@newgmc.gov.gy
SUMMARY:Virtual Presentation on Understanding Product Development Training
DESCRIPTION:
URL:https://newgmc.gov.gy/event/virtual-presentation-on-understanding-product-development-training/
END:VEVENT
BEGIN:VEVENT
DTSTART;TZID=America/Guyana:20211027T080000
DTEND;TZID=America/Guyana:20211029T163000
DTSTAMP:20260422T162925
CREATED:20211020T200919Z
LAST-MODIFIED:20211020T200919Z
UID:10680-1635321600-1635525000@newgmc.gov.gy
SUMMARY:Training Program - Agro-processing of bitter cassava to make farine
DESCRIPTION:
URL:https://newgmc.gov.gy/event/training-program-agro-processing-of-bitter-cassava-to-make-farine/
LOCATION:Kamwatta Multipurpose Centre\, Guyana
ORGANIZER;CN="Guyana Marketing Corporation":MAILTO:info@newgmc.gov.gy
END:VEVENT
BEGIN:VEVENT
DTSTART;TZID=America/Guyana:20211026T100000
DTEND;TZID=America/Guyana:20211026T120000
DTSTAMP:20260422T162925
CREATED:20211008T151217Z
LAST-MODIFIED:20211008T151217Z
UID:10633-1635242400-1635249600@newgmc.gov.gy
SUMMARY:Virtual Presentation on Preservatives in Food Training
DESCRIPTION:
URL:https://newgmc.gov.gy/event/virtual-presentation-on-preservatives-in-food-training/
END:VEVENT
BEGIN:VEVENT
DTSTART;TZID=America/Guyana:20211025T150000
DTEND;TZID=America/Guyana:20211025T163000
DTSTAMP:20260422T162925
CREATED:20211020T192529Z
LAST-MODIFIED:20211020T192529Z
UID:10650-1635174000-1635179400@newgmc.gov.gy
SUMMARY:Handing Over of Motor Cycle
DESCRIPTION:
URL:https://newgmc.gov.gy/event/handing-over-of-motor-cycle/
LOCATION:Guyana Marketing Corporation\, Ministry of Agriculture\, GuySuCo Compound\, La Bonne Intention\, East Coast Demerara.\, Georgetown\, Region 4\, Guyana
ORGANIZER;CN="Guyana Marketing Corporation":MAILTO:info@newgmc.gov.gy
END:VEVENT
BEGIN:VEVENT
DTSTART;TZID=America/Guyana:20211023T090000
DTEND;TZID=America/Guyana:20211023T130000
DTSTAMP:20260422T162925
CREATED:20211008T151055Z
LAST-MODIFIED:20211008T151055Z
UID:10630-1634979600-1634994000@newgmc.gov.gy
SUMMARY:Guyana Shop - Product Give Away
DESCRIPTION:
URL:https://newgmc.gov.gy/event/guyana-shop-product-give-away/
LOCATION:Guyana Shop\, 87 Robb & Alexander Streets\, Georgetown\, Guyana
ORGANIZER;CN="Guyana Marketing Corporation":MAILTO:info@newgmc.gov.gy
END:VEVENT
BEGIN:VEVENT
DTSTART;TZID=America/Guyana:20211023T080000
DTEND;TZID=America/Guyana:20211023T170000
DTSTAMP:20260422T162925
CREATED:20211020T195417Z
LAST-MODIFIED:20211020T195417Z
UID:10669-1634976000-1635008400@newgmc.gov.gy
SUMMARY:Farmer's Market Day & Information Activity - St. Ignatius
DESCRIPTION:
URL:https://newgmc.gov.gy/event/farmers-market-day-information-activity-st-ignatius/
LOCATION:St. Ignatius Agri-Complex\, Guyana
ORGANIZER;CN="Guyana Marketing Corporation":MAILTO:info@newgmc.gov.gy
END:VEVENT
BEGIN:VEVENT
DTSTART;TZID=America/Guyana:20211022T080000
DTEND;TZID=America/Guyana:20211022T163000
DTSTAMP:20260422T162925
CREATED:20211020T195315Z
LAST-MODIFIED:20211020T195315Z
UID:10656-1634889600-1634920200@newgmc.gov.gy
SUMMARY:Farmer's Market Day & Information Activity - Wismar
DESCRIPTION:
URL:https://newgmc.gov.gy/event/farmers-market-day-information-activity-wismar/
LOCATION:Wimar Market\, Guyana
ORGANIZER;CN="Guyana Marketing Corporation":MAILTO:info@newgmc.gov.gy
END:VEVENT
BEGIN:VEVENT
DTSTART;TZID=America/Guyana:20211022T060000
DTEND;TZID=America/Guyana:20211022T163000
DTSTAMP:20260422T162925
CREATED:20211020T195232Z
LAST-MODIFIED:20211020T195232Z
UID:10664-1634882400-1634920200@newgmc.gov.gy
SUMMARY:Farmer's Market Day & Information Activity - Kamarang
DESCRIPTION:
URL:https://newgmc.gov.gy/event/farmers-market-day-information-activity-kamarang/
LOCATION:Kamarang Compound\, Guyana
ORGANIZER;CN="Guyana Marketing Corporation":MAILTO:info@newgmc.gov.gy
END:VEVENT
BEGIN:VEVENT
DTSTART;TZID=America/Guyana:20211021T133000
DTEND;TZID=America/Guyana:20211021T163000
DTSTAMP:20260422T162925
CREATED:20211020T200121Z
LAST-MODIFIED:20211020T200121Z
UID:10683-1634823000-1634833800@newgmc.gov.gy
SUMMARY:Sensitization Session on the benefits of marketing with GMC - Waramadong
DESCRIPTION:
URL:https://newgmc.gov.gy/event/sensitization-session-on-the-benefits-of-marketing-with-gmc-waramadong/
LOCATION:Waramadong New Multipurpose Centre\, Guyana
ORGANIZER;CN="Guyana Marketing Corporation":MAILTO:info@newgmc.gov.gy
END:VEVENT
BEGIN:VEVENT
DTSTART;TZID=America/Guyana:20211021T100000
DTEND;TZID=America/Guyana:20211021T120000
DTSTAMP:20260422T162925
CREATED:20211020T200011Z
LAST-MODIFIED:20211020T200011Z
UID:10679-1634810400-1634817600@newgmc.gov.gy
SUMMARY:Sensitization Session on the benefits of marketing with GMC - Kato
DESCRIPTION:
URL:https://newgmc.gov.gy/event/sensitization-session-on-the-benefits-of-marketing-with-gmc-kato/
LOCATION:Kato Multipurpose Centre\, Guyana
ORGANIZER;CN="Guyana Marketing Corporation":MAILTO:info@newgmc.gov.gy
END:VEVENT
BEGIN:VEVENT
DTSTART;TZID=America/Guyana:20211021T060000
DTEND;TZID=America/Guyana:20211021T163000
DTSTAMP:20260422T162925
CREATED:20211020T195154Z
LAST-MODIFIED:20211020T195154Z
UID:10661-1634796000-1634833800@newgmc.gov.gy
SUMMARY:Farmer's Market Day & Information Activity - Plantation Diamond
DESCRIPTION:
URL:https://newgmc.gov.gy/event/farmers-market-day-information-activity-plantation-diamond/
LOCATION:Plantation Diamond/Grove Market Tarmac\, Guyana
ORGANIZER;CN="Guyana Marketing Corporation":MAILTO:info@newgmc.gov.gy
END:VEVENT
BEGIN:VEVENT
DTSTART;TZID=America/Guyana:20211020T130000
DTEND;TZID=America/Guyana:20211020T150000
DTSTAMP:20260422T162925
CREATED:20211008T060012Z
LAST-MODIFIED:20211020T194018Z
UID:10626-1634734800-1634742000@newgmc.gov.gy
SUMMARY:GMC & IICA - Cost of Production for Agro-Processors Webinar
DESCRIPTION:
URL:https://newgmc.gov.gy/event/gmc-iica-cost-of-production-for-agro-processors-webinar/
ORGANIZER;CN="Guyana Marketing Corporation":MAILTO:info@newgmc.gov.gy
END:VEVENT
BEGIN:VEVENT
DTSTART;TZID=America/Guyana:20211020T093000
DTEND;TZID=America/Guyana:20211020T120000
DTSTAMP:20260422T162925
CREATED:20211020T195756Z
LAST-MODIFIED:20211020T195756Z
UID:10678-1634722200-1634731200@newgmc.gov.gy
SUMMARY:Training Program - Post-harvest management of peppers for the local and international markets
DESCRIPTION:
URL:https://newgmc.gov.gy/event/training-program-post-harvest-management-of-peppers-for-the-local-and-international-markets/
LOCATION:Canadian Hunger Fund Multipurpose Building\, Little Biaboo\, Guyana
ORGANIZER;CN="Guyana Marketing Corporation":MAILTO:info@newgmc.gov.gy
END:VEVENT
BEGIN:VEVENT
DTSTART;TZID=America/Guyana:20211020T090000
DTEND;TZID=America/Guyana:20211020T163000
DTSTAMP:20260422T162925
CREATED:20211020T195023Z
LAST-MODIFIED:20211020T195023Z
UID:10655-1634720400-1634747400@newgmc.gov.gy
SUMMARY:Farmer's Market Day & Information Activity - Linden-Georgetown Car Park
DESCRIPTION:
URL:https://newgmc.gov.gy/event/farmers-market-day-information-activity-linden-georgetown-car-park/
LOCATION:Linden-Georgetown Car Park\, Guyana
ORGANIZER;CN="Guyana Marketing Corporation":MAILTO:info@newgmc.gov.gy
END:VEVENT
BEGIN:VEVENT
DTSTART;VALUE=DATE:20211019
DTEND;VALUE=DATE:20211020
DTSTAMP:20260422T162925
CREATED:20210423T141902Z
LAST-MODIFIED:20210423T141902Z
UID:7693-1634601600-1634687999@newgmc.gov.gy
SUMMARY:Youman Nabi
DESCRIPTION:
URL:https://newgmc.gov.gy/event/youman-nabi/
END:VEVENT
BEGIN:VEVENT
DTSTART;TZID=America/Guyana:20211018T060000
DTEND;TZID=America/Guyana:20211018T163000
DTSTAMP:20260422T162925
CREATED:20211020T194913Z
LAST-MODIFIED:20211020T194913Z
UID:10654-1634536800-1634574600@newgmc.gov.gy
SUMMARY:Farmer's Market Day & Information Activity - Charity
DESCRIPTION:
URL:https://newgmc.gov.gy/event/farmers-market-day-information-activity-charity/
LOCATION:Charity Market Tarmac\, Guyana
ORGANIZER;CN="Guyana Marketing Corporation":MAILTO:info@newgmc.gov.gy
END:VEVENT
BEGIN:VEVENT
DTSTART;VALUE=DATE:20211017
DTEND;VALUE=DATE:20211018
DTSTAMP:20260422T162925
CREATED:20210423T155721Z
LAST-MODIFIED:20210423T155844Z
UID:7734-1634428800-1634515199@newgmc.gov.gy
SUMMARY:International Day for the Eradication of Poverty
DESCRIPTION:
URL:https://newgmc.gov.gy/event/world-day-for-the-eradication-of-poverty/
END:VEVENT
BEGIN:VEVENT
DTSTART;VALUE=DATE:20211016
DTEND;VALUE=DATE:20211017
DTSTAMP:20260422T162925
CREATED:20210423T155533Z
LAST-MODIFIED:20210423T155533Z
UID:7732-1634342400-1634428799@newgmc.gov.gy
SUMMARY:World Food Day
DESCRIPTION:
URL:https://newgmc.gov.gy/event/world-food-day/
END:VEVENT
END:VCALENDAR